BEGIN:VCALENDAR
VERSION:2.0
CALSCALE:GREGORIAN
PRODID:adamgibbons/ics
METHOD:PUBLISH
X-PUBLISHED-TTL:PT1H
BEGIN:VEVENT
UID:32044@puntello.org
SUMMARY:CONCERTO BENEFIT INGUAIATI CON LA LEGGE #22
DTSTAMP:20260422T012029Z
DTSTART:20260509T203000Z
DTEND:20260510T000000Z
URL:https://puntello.org/event/concerto-benefit-inguaiati-con-la-legge-22
LOCATION:COX18 - Via Conchetta 18\, Milano
STATUS:CONFIRMED
CATEGORIES:benefit inguaiatx,concerto,punk
END:VEVENT
END:VCALENDAR
